BEGIN:VCALENDAR
METHOD:PUBLISH
VERSION:2.0
CALSCALE:GREGORIAN
PRODID:-//NONSGML Sandhills Development\, LLC//NONSGML Sugar Calendar Fe
 eds v3.5.1//EN
X-WR-CALNAME:Wildflower Spring Hikes
X-WR-CALDESC:Golden Gate Center for Spiritual Living
X-WR-TIMEZONE:America/Los_Angeles
BEGIN:VTIMEZONE
TZID:America/Los_Angeles
BEGIN:STANDARD
TZOFFSETFROM:-0700
TZOFFSETTO:-0800
DTSTART:20241103T090000
TZNAME:PST
END:STANDARD
BEGIN:DAYLIGHT
TZOFFSETFROM:-0800
TZOFFSETTO:-0700
DTSTART:20250309T100000
TZNAME:PDT
END:DAYLIGHT
END:VTIMEZONE
BEGIN:VTIMEZONE
TZID:America/Los_Angeles
BEGIN:STANDARD
TZOFFSETFROM:-0700
TZOFFSETTO:-0800
DTSTART:20241103T090000
TZNAME:PST
END:STANDARD
BEGIN:DAYLIGHT
TZOFFSETFROM:-0800
TZOFFSETTO:-0700
DTSTART:20250309T100000
TZNAME:PDT
END:DAYLIGHT
END:VTIMEZONE
BEGIN:VEVENT
SUMMARY:Wildflower Spring Hikes
DESCRIPTION:The first in a series of upcoming Spring hikes in Marin Coun
 ty is planned for Monday\, March 10th at 10 am.\n\n Meet at the end of S
 an Andreas Drive (538-598 San Andreas Drive) in Novato. Just a few block
 s past The Bay Club\, is the entrance to Mt. Burdell with ample parking\
 , especially during the week. This hike is pretty flat with minimal up a
 nd down and soil that will probably be moist or wet. Hiking shoes/boots 
 arerecommended.\n\nHere is a link to Mt Burdell Preserve\, the largest o
 pen space in Novato:\n\nhttps://parks.marincounty.gov/parkspreserves/pre
 serves/mount-burdell\n\nThe second hike is scheduled for Monday\, April 
 7 at 10 a.m. with a destination to be determined.\n\nSign up at the Acti
 vities table. Questions? Please contact Deborah Erwin at 415-497-5951 or
  Steve Einhaus at 415-238-8767. Text messages are preferable\, please in
 clude your name.
URL;VALUE=URI:https://ggcsl.org/events/wildflower-spring-hikes/
UID:urn:uuid:f55cd045-195f-46b6-a79a-027a9afc4f5f
STATUS:CONFIRMED
ORGANIZER:
DTSTAMP:20260425T190936Z
DTSTART;TZID=America/Los_Angeles:20250310T100000
DTEND;TZID=America/Los_Angeles:20250310T120000
END:VEVENT
END:VCALENDAR