BEGIN:VCALENDAR
METHOD:PUBLISH
VERSION:2.0
CALSCALE:GREGORIAN
PRODID:-//NONSGML Sandhills Development\, LLC//NONSGML Sugar Calendar Fe
 eds v3.5.1//EN
X-WR-CALNAME:Volunteer At The SF-Marin Food Bank in July
X-WR-CALDESC:Golden Gate Center for Spiritual Living
X-WR-TIMEZONE:America/Los_Angeles
BEGIN:VTIMEZONE
TZID:America/Los_Angeles
BEGIN:DAYLIGHT
TZOFFSETFROM:-0800
TZOFFSETTO:-0700
DTSTART:20250309T100000
TZNAME:PDT
END:DAYLIGHT
END:VTIMEZONE
BEGIN:VTIMEZONE
TZID:America/Los_Angeles
BEGIN:DAYLIGHT
TZOFFSETFROM:-0800
TZOFFSETTO:-0700
DTSTART:20250309T100000
TZNAME:PDT
END:DAYLIGHT
END:VTIMEZONE
BEGIN:VEVENT
SUMMARY:Volunteer At The SF-Marin Food Bank in July
DESCRIPTION:To be included as a participant with our team at the SF-Mar
 in Food Bank on Tuesday\, July 8th from 12:00–2:00 pm\, please cont
 act Ellen Nicosia no later than July 1st via email\, text\, or voicemail
 \, at: (415) 720-0225 or ellennicosia@gmail.com.\n\nLet’s keep our pa
 rticipation flowing and abundant!
URL;VALUE=URI:https://ggcsl.org/events/volunteer-at-the-sf-marin-food-ba
 nk-in-july/
UID:urn:uuid:87e229de-d17b-4355-9e79-05d8b7f7d025
STATUS:CONFIRMED
ORGANIZER:
DTSTAMP:20260425T171952Z
DTSTART;TZID=America/Los_Angeles:20250708T120000
DTEND;TZID=America/Los_Angeles:20250708T140000
END:VEVENT
END:VCALENDAR