BEGIN:VCALENDAR
METHOD:PUBLISH
VERSION:2.0
CALSCALE:GREGORIAN
PRODID:-//NONSGML Sandhills Development\, LLC//NONSGML Sugar Calendar Fe
 eds v3.5.1//EN
X-WR-CALNAME:Volunteer at the Marin Food Bank ~ Sacred Service Matters
X-WR-CALDESC:Golden Gate Center for Spiritual Living
X-WR-TIMEZONE:America/Los_Angeles
BEGIN:VTIMEZONE
TZID:America/Los_Angeles
BEGIN:DAYLIGHT
TZOFFSETFROM:-0800
TZOFFSETTO:-0700
DTSTART:20250309T100000
TZNAME:PDT
END:DAYLIGHT
END:VTIMEZONE
BEGIN:VTIMEZONE
TZID:America/Los_Angeles
BEGIN:DAYLIGHT
TZOFFSETFROM:-0800
TZOFFSETTO:-0700
DTSTART:20250309T100000
TZNAME:PDT
END:DAYLIGHT
END:VTIMEZONE
BEGIN:VEVENT
SUMMARY:Volunteer at the Marin Food Bank ~ Sacred Service Matters
DESCRIPTION:Sacred Service Matters\nAs we give service we're contributin
 g to the quality of life we share and experience. At the Food Bank\, weâ
 €™re literally contributing to Life itself by contributing our time for 
 food security for our neighbors.\n\nSF-Marin Food Bank:Â Contact Ellen N
 icosia by April 1st by email\, text\, or voicemail to be included as a p
 articipant with GGCSLâ€™s team\, Tuesday\, MayÂ 13thÂ Â from 12:00â€“2:0
 0 pm:Â ellennicosia@gmail.comÂ or (415) 720-0225.
URL;VALUE=URI:https://ggcsl.org/events/volunteer-at-the-marin-food-bank-
 sacred-service-matters/
UID:urn:uuid:fafdd0f7-b0fa-42f8-9434-e1c0bb5ff2dd
STATUS:CONFIRMED
ORGANIZER:
DTSTAMP:20260425T204422Z
DTSTART;TZID=America/Los_Angeles:20250513T120000
DTEND;TZID=America/Los_Angeles:20250513T140000
END:VEVENT
END:VCALENDAR