BEGIN:VCALENDAR
METHOD:PUBLISH
VERSION:2.0
CALSCALE:GREGORIAN
PRODID:-//NONSGML Sandhills Development\, LLC//NONSGML Sugar Calendar Fe
 eds v3.5.1//EN
X-WR-CALNAME:The Power of Spiritual Mind Treatment Workshop
X-WR-CALDESC:Golden Gate Center for Spiritual Living
X-WR-TIMEZONE:America/Los_Angeles
BEGIN:VTIMEZONE
TZID:America/Los_Angeles
BEGIN:STANDARD
TZOFFSETFROM:-0700
TZOFFSETTO:-0800
DTSTART:20231105T090000
TZNAME:PST
END:STANDARD
END:VTIMEZONE
BEGIN:VTIMEZONE
TZID:America/Los_Angeles
BEGIN:STANDARD
TZOFFSETFROM:-0700
TZOFFSETTO:-0800
DTSTART:20231105T090000
TZNAME:PST
END:STANDARD
END:VTIMEZONE
BEGIN:VEVENT
SUMMARY:The Power of Spiritual Mind Treatment Workshop
DESCRIPTION:The Power of Spiritual Mind Treatment with Prayer Practition
 ers\, Lesley Gianetti\, RScP and Marilyn Letsos\n\nWith Lesley as your s
 killed guide\, explore and experiment with the power of spiritual mind t
 reatment or affirmative prayer:\n\n 	Gain a better understanding of how 
 your thoughts and beliefs provide a rich mental atmosphere for your trea
 tments.\n 	Discover how your prayers are not bound by time or space\n 	E
 xplore keys to manifesting a demonstration\n 	Benefit from examples of t
 reating for various concerns\n 	Develop a feeling of excitement and use 
 this powerful tool to transform your daily life - beginning immediately.
 \n\nWhen: Sunday\, February 18\, 2024 1-3 pm Pacific\n\nLocation: GGCSL 
 Learning Center (our new office at 851 Irwin St\, Ste 217\, San Rafael\,
  CA 94901)\n\nLove Offering
URL;VALUE=URI:https://ggcsl.org/events/the-power-of-spiritual-mind-treat
 ment-workshop/
UID:urn:uuid:82ec5029-7e7b-4687-a612-7b4293a15e48
STATUS:CONFIRMED
ORGANIZER:
DTSTAMP:20260425T194226Z
DTSTART;TZID=America/Los_Angeles:20240218T130000
DTEND;TZID=America/Los_Angeles:20240218T150000
END:VEVENT
END:VCALENDAR