BEGIN:VCALENDAR
METHOD:PUBLISH
VERSION:2.0
CALSCALE:GREGORIAN
PRODID:-//NONSGML Sandhills Development\, LLC//NONSGML Sugar Calendar Fe
 eds v3.5.1//EN
X-WR-CALNAME:Taize Service
X-WR-CALDESC:Golden Gate Center for Spiritual Living
X-WR-TIMEZONE:America/Los_Angeles
BEGIN:VTIMEZONE
TZID:America/Los_Angeles
BEGIN:DAYLIGHT
TZOFFSETFROM:-0800
TZOFFSETTO:-0700
DTSTART:20250309T100000
TZNAME:PDT
END:DAYLIGHT
END:VTIMEZONE
BEGIN:VTIMEZONE
TZID:America/Los_Angeles
BEGIN:DAYLIGHT
TZOFFSETFROM:-0800
TZOFFSETTO:-0700
DTSTART:20250309T100000
TZNAME:PDT
END:DAYLIGHT
END:VTIMEZONE
BEGIN:VEVENT
SUMMARY:Taize Service
DESCRIPTION:This is a deeply felt hour of music\, readings\, meditation 
 and prayer. Come and bring your deep attention and focus. Let your heart
  be softened and nurtured as your mind is lifted and inspired.\n\nAll ar
 e welcome\, and no previous meditation experience is necessary.\n\nClick
  here at 7:15 pm Pacific tomorrow evening to participate: \n\nhttps://u
 s02web.zoom.us/j/84023902214?pwd=R05VNjJTMmJlOWhCS3J2cmFsczZSZz09
URL;VALUE=URI:https://ggcsl.org/events/taize-service-3/
UID:urn:uuid:28bf1fb4-4b9c-4c72-8b16-23a5c7fbcfb1
STATUS:CONFIRMED
ORGANIZER:
DTSTAMP:20260423T110620Z
DTSTART;TZID=America/Los_Angeles:20250709T191500
DTEND;TZID=America/Los_Angeles:20250709T201500
RRULE:FREQ=MONTHLY;INTERVAL=1;UNTIL=20261216T235959Z
END:VEVENT
END:VCALENDAR