BEGIN:VCALENDAR
METHOD:PUBLISH
VERSION:2.0
CALSCALE:GREGORIAN
PRODID:-//NONSGML Sandhills Development\, LLC//NONSGML Sugar Calendar Fe
 eds v3.5.1//EN
X-WR-CALNAME:SF-Marin Food Bank Volunteer Opportunity
X-WR-CALDESC:Golden Gate Center for Spiritual Living
X-WR-TIMEZONE:America/Los_Angeles
BEGIN:VTIMEZONE
TZID:America/Los_Angeles
BEGIN:STANDARD
TZOFFSETFROM:-0700
TZOFFSETTO:-0800
DTSTART:20231105T090000
TZNAME:PST
END:STANDARD
END:VTIMEZONE
BEGIN:VTIMEZONE
TZID:America/Los_Angeles
BEGIN:STANDARD
TZOFFSETFROM:-0700
TZOFFSETTO:-0800
DTSTART:20231105T090000
TZNAME:PST
END:STANDARD
END:VTIMEZONE
BEGIN:VEVENT
SUMMARY:SF-Marin Food Bank Volunteer Opportunity
DESCRIPTION:Serve At The SF-Marin Food Bank - Help Eradicate Hunger in O
 ur Community\n\nOn Tuesday\, February 13th noon – 2:00 pm\, GGCSL wil
 l send a volunteer service team to the food bank warehouse in San Rafael
 . The food bank plans the work to be done for each group of volunteers 
 as they find out how many will be coming. \n\nPlease Contact Ellen Nico
 sia before February 6th to sign up to be on GGCSL's January team: text 
 her at 415.720.0225 or email ellennicosia@gmail.com.
URL;VALUE=URI:https://ggcsl.org/events/sf-marin-food-bank-volunteer-oppo
 rtunity/
UID:urn:uuid:6f156111-958b-4dce-a847-c79c3cd979f9
STATUS:CONFIRMED
ORGANIZER:
DTSTAMP:20260425T193030Z
DTSTART;TZID=America/Los_Angeles:20240213T120000
DTEND;TZID=America/Los_Angeles:20240213T140000
END:VEVENT
END:VCALENDAR