BEGIN:VCALENDAR
METHOD:PUBLISH
VERSION:2.0
CALSCALE:GREGORIAN
PRODID:-//NONSGML Sandhills Development\, LLC//NONSGML Sugar Calendar Fe
 eds v3.5.1//EN
X-WR-CALNAME:SF-Marin Food Bank Volunteer Opportunity
X-WR-CALDESC:Golden Gate Center for Spiritual Living
X-WR-TIMEZONE:America/Los_Angeles
BEGIN:VTIMEZONE
TZID:America/Los_Angeles
BEGIN:STANDARD
TZOFFSETFROM:-0700
TZOFFSETTO:-0800
DTSTART:20241103T090000
TZNAME:PST
END:STANDARD
END:VTIMEZONE
BEGIN:VTIMEZONE
TZID:America/Los_Angeles
BEGIN:STANDARD
TZOFFSETFROM:-0700
TZOFFSETTO:-0800
DTSTART:20241103T090000
TZNAME:PST
END:STANDARD
END:VTIMEZONE
BEGIN:VEVENT
SUMMARY:SF-Marin Food Bank Volunteer Opportunity
DESCRIPTION:Volunteering at the Marin Food Bank is a fun way to connect 
 with others from Golden Gate Center for Spiritual Living (GGCSL) and giv
 e back to our greater Marin community. We have a shift coming up on Janu
 ary 14th  from noon to 2 pm.\n\nThis commitment is just two hours. Prov
 ide Ellen with your choice of date and your name\, email and phone numbe
 r. (The Food Bank requires notification of our team members from Ellen o
 ne week before the scheduled service.)\n\nLocation: 2550 Kerner Blvd. Sa
 n Rafael\, CA 94901\n\nPlease contact Ellen Nicosia by September 10th to
  sign up: text her at 415.720.0225 or email at ellennicosia@gmail.com
URL;VALUE=URI:https://ggcsl.org/events/sf-marin-food-bank-volunteer-oppo
 rtunity-4/
UID:urn:uuid:30bc12a1-6ccf-4366-90da-26139e7f2daa
STATUS:CONFIRMED
ORGANIZER:
DTSTAMP:20260425T210604Z
DTSTART;TZID=America/Los_Angeles:20241112T120000
DTEND;TZID=America/Los_Angeles:20241112T140000
END:VEVENT
END:VCALENDAR