BEGIN:VCALENDAR
METHOD:PUBLISH
VERSION:2.0
CALSCALE:GREGORIAN
PRODID:-//NONSGML Sandhills Development\, LLC//NONSGML Sugar Calendar Fe
 eds v3.5.1//EN
X-WR-CALNAME:SF-Marin Food Bank Volunteer Opportunity
X-WR-CALDESC:Golden Gate Center for Spiritual Living
X-WR-TIMEZONE:America/Los_Angeles
BEGIN:VTIMEZONE
TZID:America/Los_Angeles
BEGIN:DAYLIGHT
TZOFFSETFROM:-0800
TZOFFSETTO:-0700
DTSTART:20240310T100000
TZNAME:PDT
END:DAYLIGHT
END:VTIMEZONE
BEGIN:VTIMEZONE
TZID:America/Los_Angeles
BEGIN:DAYLIGHT
TZOFFSETFROM:-0800
TZOFFSETTO:-0700
DTSTART:20240310T100000
TZNAME:PDT
END:DAYLIGHT
END:VTIMEZONE
BEGIN:VEVENT
SUMMARY:SF-Marin Food Bank Volunteer Opportunity
DESCRIPTION:Please join us Tuesday\, May 14th at the San Rafael warehou
 se\, when GGCSL will again support the SF-Marin Food Bank from Noon–
 2pm helping to pack food for distribution in the neighborhoods most at r
 isk of hunger.\n\nContact Ellen Nicosia by voice mail\, email or text me
 ssage with your contact info and to let her know that you want to be par
 t of the May Food Bank service team: ellennicosia@gmail.com or (415) 7
 20-0225.
URL;VALUE=URI:https://ggcsl.org/events/sf-marin-food-bank-volunteer-oppo
 rtunity-2/
UID:urn:uuid:0e0b7b69-f159-4bd7-b5ae-293f390de9d2
STATUS:CONFIRMED
ORGANIZER:
DTSTAMP:20260425T193015Z
DTSTART;TZID=America/Los_Angeles:20240514T120000
DTEND;TZID=America/Los_Angeles:20240514T140000
END:VEVENT
END:VCALENDAR