BEGIN:VCALENDAR
METHOD:PUBLISH
VERSION:2.0
CALSCALE:GREGORIAN
PRODID:-//NONSGML Sandhills Development\, LLC//NONSGML Sugar Calendar Fe
 eds v3.5.1//EN
X-WR-CALNAME:SF-Marin Food Bank Service
X-WR-CALDESC:Golden Gate Center for Spiritual Living
X-WR-TIMEZONE:America/Los_Angeles
BEGIN:VTIMEZONE
TZID:America/Los_Angeles
BEGIN:DAYLIGHT
TZOFFSETFROM:-0700
TZOFFSETTO:-0700
DTSTART:20250311T000000
TZNAME:PDT
END:DAYLIGHT
END:VTIMEZONE
BEGIN:VTIMEZONE
TZID:America/Los_Angeles
BEGIN:DAYLIGHT
TZOFFSETFROM:-0700
TZOFFSETTO:-0700
DTSTART:20250311T000000
TZNAME:PDT
END:DAYLIGHT
END:VTIMEZONE
BEGIN:VEVENT
SUMMARY:SF-Marin Food Bank Service
DESCRIPTION:Our next opportunity to serve is Tuesday\, September 9th\, n
 oon-2 pm. Our coordinator for this volunteer service is Ellen Nicosia. T
 o participate on the September team\, contact Ellen by text or email wit
 h your contact info by Tuesday\, September 2nd: 415-720-0225 or ellennic
 osia@gmail.com. We have a specific number of slots available and volunte
 ers fill them on a first-come\, first-served basis.\n\nLocation: 2550 Ke
 rner Blvd.\, San Rafael\, CA 94901
URL;VALUE=URI:https://ggcsl.org/events/sf-marin-food-bank-service/
UID:urn:uuid:f3fd57a7-43b5-4b1d-a621-702c904229ec
STATUS:CONFIRMED
ORGANIZER:
DTSTAMP:20260425T165517Z
DTSTART;TZID=America/Los_Angeles:20250909T120000
DTEND;TZID=America/Los_Angeles:20250909T140000
END:VEVENT
END:VCALENDAR