BEGIN:VCALENDAR
METHOD:PUBLISH
VERSION:2.0
CALSCALE:GREGORIAN
PRODID:-//NONSGML Sandhills Development\, LLC//NONSGML Sugar Calendar Fe
 eds v3.5.1//EN
X-WR-CALNAME:Sacred Service At SF-Marin Food Bank
X-WR-CALDESC:Golden Gate Center for Spiritual Living
X-WR-TIMEZONE:America/Los_Angeles
BEGIN:VTIMEZONE
TZID:America/Los_Angeles
BEGIN:STANDARD
TZOFFSETFROM:-0700
TZOFFSETTO:-0800
DTSTART:20241103T090000
TZNAME:PST
END:STANDARD
END:VTIMEZONE
BEGIN:VTIMEZONE
TZID:America/Los_Angeles
BEGIN:STANDARD
TZOFFSETFROM:-0700
TZOFFSETTO:-0800
DTSTART:20241103T090000
TZNAME:PST
END:STANDARD
END:VTIMEZONE
BEGIN:VEVENT
SUMMARY:Sacred Service At SF-Marin Food Bank
DESCRIPTION:Christmas approaches\, and holiday times can be the lonelies
 t and hungriest for food insecure neighbors. GGCSLers volunteer two hour
 s each month at the San Rafael warehouse of the SF-Marin Food Bank. This
  is one way we help make the world a better place for our neighbors. The
  food packed during our service times will be delivered to local distrib
 utions centers closer to the homes of people needing it. You can partici
 pate! If youâ€™d like to help\, provide your name\, email and phone numb
 er by email or text to Ellen Nicosia before December 3rd: ellennicosia@g
 mail.comÂ or (415)Â 720-0225 to help onÂ Tuesday\, Dec. 10thÂ from Noonâ
 €“2 pm.Â \n\nThis is a great way to begin your Christmas Season!
URL;VALUE=URI:https://ggcsl.org/events/sacred-service-at-sf-marin-food-b
 ank/
UID:urn:uuid:7afa9f68-9ee7-4450-bbf4-869a15971578
STATUS:CONFIRMED
ORGANIZER:
DTSTAMP:20260420T110242Z
DTSTART;TZID=America/Los_Angeles:20241210T120000
DTEND;TZID=America/Los_Angeles:20241210T140000
END:VEVENT
END:VCALENDAR