BEGIN:VCALENDAR
METHOD:PUBLISH
VERSION:2.0
CALSCALE:GREGORIAN
PRODID:-//NONSGML Sandhills Development\, LLC//NONSGML Sugar Calendar Fe
 eds v3.5.1//EN
X-WR-CALNAME:Prayer and Meditation
X-WR-CALDESC:Golden Gate Center for Spiritual Living
X-WR-TIMEZONE:America/Los_Angeles
BEGIN:VTIMEZONE
TZID:America/Los_Angeles
BEGIN:DAYLIGHT
TZOFFSETFROM:-0800
TZOFFSETTO:-0700
DTSTART:20250309T100000
TZNAME:PDT
END:DAYLIGHT
END:VTIMEZONE
BEGIN:VTIMEZONE
TZID:America/Los_Angeles
BEGIN:DAYLIGHT
TZOFFSETFROM:-0800
TZOFFSETTO:-0700
DTSTART:20250309T100000
TZNAME:PDT
END:DAYLIGHT
END:VTIMEZONE
BEGIN:VEVENT
SUMMARY:Prayer and Meditation
DESCRIPTION:On the first Wednesday of the month we share recent blessing
 s we’re grateful for\, share in a silent meditation\, and make prayer
  requests. Prayer is given at the end of the evening by Rev. Mary for
  all requests made during this evening meditation event.\n\nAll are we
 lcome\, and no previous meditation experience is necessary.\n\nClick h
 ere at 7:15 pm Pacific tomorrow evening to participate: \n\nhttps://us0
 2web.zoom.us/j/84023902214?pwd=R05VNjJTMmJlOWhCS3J2cmFsczZSZz09
URL;VALUE=URI:https://ggcsl.org/events/prayer-and-meditation/
UID:urn:uuid:0370dcb3-e303-44ee-a793-5bb48912d12d
STATUS:CONFIRMED
ORGANIZER:
DTSTAMP:20260425T155121Z
DTSTART;TZID=America/Los_Angeles:20250702T191500
DTEND;TZID=America/Los_Angeles:20250702T201500
RRULE:FREQ=MONTHLY;INTERVAL=1;UNTIL=20261209T235959Z
END:VEVENT
END:VCALENDAR