BEGIN:VCALENDAR
METHOD:PUBLISH
VERSION:2.0
CALSCALE:GREGORIAN
PRODID:-//NONSGML Sandhills Development\, LLC//NONSGML Sugar Calendar Fe
 eds v3.5.1//EN
X-WR-CALNAME:Mysticism Presentation Sunday (10/27/24)
X-WR-CALDESC:Golden Gate Center for Spiritual Living
X-WR-TIMEZONE:America/Los_Angeles
BEGIN:VTIMEZONE
TZID:America/Los_Angeles
BEGIN:DAYLIGHT
TZOFFSETFROM:-0700
TZOFFSETTO:-0700
DTSTART:20240428T010000
TZNAME:PDT
END:DAYLIGHT
END:VTIMEZONE
BEGIN:VTIMEZONE
TZID:America/Los_Angeles
BEGIN:DAYLIGHT
TZOFFSETFROM:-0700
TZOFFSETTO:-0700
DTSTART:20240428T010000
TZNAME:PDT
END:DAYLIGHT
END:VTIMEZONE
BEGIN:VEVENT
SUMMARY:Mysticism Presentation Sunday (10/27/24)
DESCRIPTION:A special presentation by two local authors is happening at 
 our office/learning center on Sunday\, October 27 from 1-3 pm. The pres
 entation explores the stories of these women\, and how the mystical ente
 red their lives and changed everything. This is a Love Offering presenta
 tion that may lead to a practical workshop in the future. Sign up Sunda
 y at the Activity Table to hold your spot!\nCurran Galway holds degrees
  in Education and English\, and a Masters of Divinity in Transformationa
 l Spirituality from Seattle University. Galway has published articles in
  Unity Magazine\, and is the author of The Aquarians. She is a spiritu
 al coach and an inspirational speaker\, leading retreats and spiritual s
 eminars\, including Ordinary Mystic\, and Raising Spiritual Children 
 workshops in the Bay Area.\n\nSherry Brier is co-owner/director of Inn
 er Rhythm Movement Arts Institute in Marin County\, California. While u
 ndergoing a crisis of the heart and spirit\, Sherry met a mysterious tea
 cher of mystical movement who initiated her into Egyptian Temple Dance.
  Her teacher prepared Sherry for her Return to the Source\, and introduc
 ed her to other masters of wisdom. From California to the sacred sites o
 f Egypt\, Doorway to Ecstasy follows Sherry's spiritual journey interw
 eaving her present life with her far distant past and revealing the blue
 print of her destiny.
URL;VALUE=URI:https://ggcsl.org/events/mysticism-presentation-sunday-10-
 27-24/
UID:urn:uuid:b7d41b9c-5971-4a4f-b564-586cb57e812e
STATUS:CONFIRMED
ORGANIZER:
DTSTAMP:20260425T204725Z
DTSTART;TZID=America/Los_Angeles:20241027T130000
DTEND;TZID=America/Los_Angeles:20241027T150000
END:VEVENT
END:VCALENDAR