BEGIN:VCALENDAR
METHOD:PUBLISH
VERSION:2.0
CALSCALE:GREGORIAN
PRODID:-//NONSGML Sandhills Development\, LLC//NONSGML Sugar Calendar Fe
 eds v3.5.1//EN
X-WR-CALNAME:Men's Brunch
X-WR-CALDESC:Golden Gate Center for Spiritual Living
X-WR-TIMEZONE:America/Los_Angeles
BEGIN:VTIMEZONE
TZID:America/Los_Angeles
BEGIN:DAYLIGHT
TZOFFSETFROM:-0700
TZOFFSETTO:-0700
DTSTART:20250412T230000
TZNAME:PDT
END:DAYLIGHT
END:VTIMEZONE
BEGIN:VTIMEZONE
TZID:America/Los_Angeles
BEGIN:DAYLIGHT
TZOFFSETFROM:-0700
TZOFFSETTO:-0700
DTSTART:20250412T230000
TZNAME:PDT
END:DAYLIGHT
END:VTIMEZONE
BEGIN:VEVENT
SUMMARY:Men's Brunch
DESCRIPTION:We will have the ever-popular Men’s Brunch immediately fol
 lowing the Sunday Celebration. We’d like to have all our guys involved
 \, so please contact Steve Einhaus: steveeinhaus@hotmail.com\, to help a
 nd participate.\n\nFor the rest of us\, come and enjoy a great Sunday br
 unch for just $10!
URL;VALUE=URI:https://ggcsl.org/events/mens-brunch-2/
UID:urn:uuid:91541fa2-2a86-4363-a561-757c6ec1f051
STATUS:CONFIRMED
ORGANIZER:
DTSTAMP:20260425T165553Z
DTSTART;TZID=America/Los_Angeles:20251012T110000
DTEND;TZID=America/Los_Angeles:20251012T120000
END:VEVENT
END:VCALENDAR