BEGIN:VCALENDAR
METHOD:PUBLISH
VERSION:2.0
CALSCALE:GREGORIAN
PRODID:-//NONSGML Sandhills Development\, LLC//NONSGML Sugar Calendar Fe
 eds v3.5.1//EN
X-WR-CALNAME:Meditation Surprise
X-WR-CALDESC:Golden Gate Center for Spiritual Living
X-WR-TIMEZONE:America/Los_Angeles
BEGIN:VTIMEZONE
TZID:America/Los_Angeles
BEGIN:STANDARD
TZOFFSETFROM:-0700
TZOFFSETTO:-0800
DTSTART:20241103T090000
TZNAME:PST
END:STANDARD
END:VTIMEZONE
BEGIN:VTIMEZONE
TZID:America/Los_Angeles
BEGIN:STANDARD
TZOFFSETFROM:-0700
TZOFFSETTO:-0800
DTSTART:20241103T090000
TZNAME:PST
END:STANDARD
END:VTIMEZONE
BEGIN:VEVENT
SUMMARY:Meditation Surprise
DESCRIPTION:This month there is a fifth Wednesday\, which only occurs qu
 arterly throughout the year. The meditations for these evenings will be 
 chosen by the meditation leader for that week and may be one of the four
  used regularly each month\, or something completely different. It’s a
  surprise!\n\nNote: Please regularly update your Zoom App for continued 
 connectivity.\n\nhttps://us02web.zoom.us/j/84023902214?pwd=R05VNjJTMmJlO
 WhCS3J2cmFsczZSZz09\n\nWe’re not “your usual church.” We’re a we
 lcoming place for anyone wanting to connect with Spirit/Higher Power/Uni
 versal Love/Infinite Intelligence without control\, dogma\, judgment\, g
 uilt\, or fear.\n\nWe celebrate and teach ancient spiritual principles a
 nd wisdom\, even though the message and music are contemporary and down-
 to-earth. Relax\, enjoy and explore. Chances are you’ll find people he
 re who are a lot like you.
URL;VALUE=URI:https://ggcsl.org/events/meditation-surprise-2/
UID:urn:uuid:f5888c9c-01b5-4a3d-9ddf-caa48c973d97
STATUS:CONFIRMED
ORGANIZER:
DTSTAMP:20260425T135214Z
DTSTART;TZID=America/Los_Angeles:20250129T191500
DTEND;TZID=America/Los_Angeles:20250129T203000
RRULE:FREQ=MONTHLY;INTERVAL=1;UNTIL=20261230T235959Z
END:VEVENT
END:VCALENDAR