BEGIN:VCALENDAR
METHOD:PUBLISH
VERSION:2.0
CALSCALE:GREGORIAN
PRODID:-//NONSGML Sandhills Development\, LLC//NONSGML Sugar Calendar Fe
 eds v3.5.1//EN
X-WR-CALNAME:Leadership Council Meeting
X-WR-CALDESC:Golden Gate Center for Spiritual Living
X-WR-TIMEZONE:America/Los_Angeles
BEGIN:VTIMEZONE
TZID:America/Los_Angeles
BEGIN:DAYLIGHT
TZOFFSETFROM:-0700
TZOFFSETTO:-0700
DTSTART:20240327T040000
TZNAME:PDT
END:DAYLIGHT
END:VTIMEZONE
BEGIN:VTIMEZONE
TZID:America/Los_Angeles
BEGIN:DAYLIGHT
TZOFFSETFROM:-0700
TZOFFSETTO:-0700
DTSTART:20240327T040000
TZNAME:PDT
END:DAYLIGHT
END:VTIMEZONE
BEGIN:VEVENT
SUMMARY:Leadership Council Meeting
DESCRIPTION:We call our Board of Trustees a Leadership Council\, and it
  may be a perfect place for you to serve. Our Leadership Council is a 
 loving \, experienced group of leaders\, committed to supporting GGCSL w
 ith their time\, leadership\, and expertise.\n\nThe Leadership Council o
 versees staffing\, policies and procedures\, bylaws\, income / expenses\
 , and carrying out GGCSL’s Mission.\n\nWe meet monthly on the third We
 dnesday afternoon on Zoom for about 90 minutes\, and work on our share o
 f LC projects between meetings\, preparing updates in reports for the ne
 xt meeting.\n\nWe love and support each other in prayer\, humor\, and co
 llaboration. The Leadership Council commits to “speaking with one voic
 e\,” and maintains appropriate confidentiality on personnel issues and
  donor information.\n\nHave you considered serving GGCSL in this way? If
  you’re an active Member who has completed Foundations\, you’re el
 igible to serve. Applications and info are on the Sunday Activity Table\
 , and can also be requested via email: ggcsl@ggcsl.org.\n\n&nbsp\;\n\n&
 nbsp\;
URL;VALUE=URI:https://ggcsl.org/events/leadership-council-meeting/
UID:urn:uuid:2531bbff-5009-4472-ae7d-72a2e689a3e6
STATUS:CONFIRMED
ORGANIZER:
DTSTAMP:20260425T210444Z
DTSTART;TZID=America/Los_Angeles:20240925T160000
DTEND;TZID=America/Los_Angeles:20240925T180000
END:VEVENT
END:VCALENDAR