BEGIN:VCALENDAR
METHOD:PUBLISH
VERSION:2.0
CALSCALE:GREGORIAN
PRODID:-//NONSGML Sandhills Development\, LLC//NONSGML Sugar Calendar Fe
 eds v3.5.1//EN
X-WR-CALNAME:Father's Day ~ Bring Your Dad Photos On Sunday For The Alta
 r!
X-WR-CALDESC:Golden Gate Center for Spiritual Living
X-WR-TIMEZONE:America/Los_Angeles
BEGIN:VTIMEZONE
TZID:America/Los_Angeles
BEGIN:DAYLIGHT
TZOFFSETFROM:-0800
TZOFFSETTO:-0700
DTSTART:20250309T100000
TZNAME:PDT
END:DAYLIGHT
END:VTIMEZONE
BEGIN:VTIMEZONE
TZID:America/Los_Angeles
BEGIN:DAYLIGHT
TZOFFSETFROM:-0800
TZOFFSETTO:-0700
DTSTART:20250309T100000
TZNAME:PDT
END:DAYLIGHT
END:VTIMEZONE
BEGIN:VEVENT
SUMMARY:Father's Day ~ Bring Your Dad Photos On Sunday For The Altar!
DESCRIPTION:Sunday\, June 15th is Fathersâ€™ Day. Now is the time to set
 Â aside your favorite photo of your Dad for our altar for this mid-June 
 honoring of Fathers.\n\nBring your Dad to the Sunday Celebration if heâ€
 ™s around\, and a photo of him if he isnâ€™t. Bring your favorite photo 
 of you with your dad. Weâ€™ll make room for them all!
URL;VALUE=URI:https://ggcsl.org/events/fathers-day-bring-your-dad-photos
 -on-sunday-for-the-altar/
UID:urn:uuid:ec553982-a8f2-4d0e-a679-6d2e2168e10e
STATUS:CONFIRMED
ORGANIZER:
DTSTAMP:20260425T170157Z
DTSTART;TZID=America/Los_Angeles:20250615T100000
DTEND;TZID=America/Los_Angeles:20250615T120000
END:VEVENT
END:VCALENDAR