BEGIN:VCALENDAR
METHOD:PUBLISH
VERSION:2.0
CALSCALE:GREGORIAN
PRODID:-//NONSGML Sandhills Development\, LLC//NONSGML Sugar Calendar Fe
 eds v3.5.1//EN
X-WR-CALNAME:Experience Visioning
X-WR-CALDESC:Golden Gate Center for Spiritual Living
X-WR-TIMEZONE:America/Los_Angeles
BEGIN:VTIMEZONE
TZID:America/Los_Angeles
BEGIN:STANDARD
TZOFFSETFROM:-0700
TZOFFSETTO:-0800
DTSTART:20241103T090000
TZNAME:PST
END:STANDARD
END:VTIMEZONE
BEGIN:VTIMEZONE
TZID:America/Los_Angeles
BEGIN:STANDARD
TZOFFSETFROM:-0700
TZOFFSETTO:-0800
DTSTART:20241103T090000
TZNAME:PST
END:STANDARD
END:VTIMEZONE
BEGIN:VEVENT
SUMMARY:Experience Visioning
DESCRIPTION:Visioning is a powerful meditation practice developed by Rev
 . Dr. Michael Beckwith of the Agapé International Spiritual Center and 
 adopted by Centers for Spiritual Living. The meditation is designed to o
 pen our minds and hearts to receive the guidance and vision of Spirit. A
 ll are welcome\, and no previous Visioning experience is necessary. This
  is a guided meditation. Participants will need paper and pen to fully p
 articipate in the Zoom meditation.\n\nAll are welcome. Click here at 7:1
 5 pm Pacific tomorrow evening to join the Meditation:\n\nhttps://us02web
 .zoom.us/j/84023902214?pwd=R05VNjJTMmJlOWhCS3J2cmFsczZSZz09
URL;VALUE=URI:https://ggcsl.org/events/experience-visioning-3/
UID:urn:uuid:2a863e19-155b-4aba-ab1e-f296f3650a84
STATUS:CONFIRMED
ORGANIZER:
DTSTAMP:20260425T154627Z
DTSTART;TZID=America/Los_Angeles:20250226T191500
DTEND;TZID=America/Los_Angeles:20250226T201500
RRULE:FREQ=MONTHLY;INTERVAL=1;UNTIL=20261224T235959Z
END:VEVENT
END:VCALENDAR