BEGIN:VCALENDAR
METHOD:PUBLISH
VERSION:2.0
CALSCALE:GREGORIAN
PRODID:-//NONSGML Sandhills Development\, LLC//NONSGML Sugar Calendar Fe
 eds v3.5.1//EN
X-WR-CALNAME:Experience Visioning
X-WR-CALDESC:Golden Gate Center for Spiritual Living
X-WR-TIMEZONE:America/Los_Angeles
BEGIN:VTIMEZONE
TZID:America/Los_Angeles
BEGIN:STANDARD
TZOFFSETFROM:-0700
TZOFFSETTO:-0800
DTSTART:20241103T090000
TZNAME:PST
END:STANDARD
END:VTIMEZONE
BEGIN:VTIMEZONE
TZID:America/Los_Angeles
BEGIN:STANDARD
TZOFFSETFROM:-0700
TZOFFSETTO:-0800
DTSTART:20241103T090000
TZNAME:PST
END:STANDARD
END:VTIMEZONE
BEGIN:VEVENT
SUMMARY:Experience Visioning
DESCRIPTION:Open to Spirit’s Vision for your heartfelt goal. The group
  consciousness of Visioning together strengthens the experience for us a
 ll. Wednesday at 7:15-8:30 pm.\n\nVisioning as a spiritual meditation pr
 actice was developed and introduced to CSL communities by Rev. Dr. Micha
 el Beckwith. It is different than visualization. With Visioning\, our in
 tention is to ask for and open to direct guidance from Spirit for our li
 ves\, a project\, a relationship\, a business\, etc. No previous experie
 nce is necessary. Bring paper and pen and join us.\n\nEveryone is welcom
 e to join us for this free event on Zoom: https://us02web.zoom.us/j/8402
 3902214?pwd=R05VNjJTMmJlOWhCS3J2cmFsczZSZz09
URL;VALUE=URI:https://ggcsl.org/events/experience-visioning-2/
UID:urn:uuid:ae74fa62-8ba5-4247-9f5b-ab84888c63f9
STATUS:CONFIRMED
ORGANIZER:
DTSTAMP:20260425T154704Z
DTSTART;TZID=America/Los_Angeles:20250219T191500
DTEND;TZID=America/Los_Angeles:20250219T203000
RRULE:FREQ=MONTHLY;INTERVAL=1;UNTIL=19700101T235959Z
END:VEVENT
END:VCALENDAR