BEGIN:VCALENDAR
METHOD:PUBLISH
VERSION:2.0
CALSCALE:GREGORIAN
PRODID:-//NONSGML Sandhills Development\, LLC//NONSGML Sugar Calendar Fe
 eds v3.5.1//EN
X-WR-CALNAME:Education Team Meeting
X-WR-CALDESC:Golden Gate Center for Spiritual Living
X-WR-TIMEZONE:America/Los_Angeles
BEGIN:VTIMEZONE
TZID:America/Los_Angeles
BEGIN:STANDARD
TZOFFSETFROM:-0700
TZOFFSETTO:-0800
DTSTART:20231105T090000
TZNAME:PST
END:STANDARD
END:VTIMEZONE
BEGIN:VTIMEZONE
TZID:America/Los_Angeles
BEGIN:STANDARD
TZOFFSETFROM:-0700
TZOFFSETTO:-0800
DTSTART:20231105T090000
TZNAME:PST
END:STANDARD
END:VTIMEZONE
BEGIN:VEVENT
SUMMARY:Education Team Meeting
DESCRIPTION:A group of our experienced teachers who are also licensed pr
 ayer practitioners at GGCSL meet regularly with Rev. Mary to plan classe
 s\, review those that have completed\, discuss class policies\, and cons
 ider new curricula and offerings. These two-hour team meetings  happen 
 on alternate months and are specifically for this team.
URL;VALUE=URI:https://ggcsl.org/events/education-team-meeting-2/
UID:urn:uuid:7e1931de-c03c-4619-8232-dd2f81ce7b3e
STATUS:CONFIRMED
ORGANIZER:
DTSTAMP:20260425T192907Z
DTSTART;TZID=America/Los_Angeles:20240303T130000
DTEND;TZID=America/Los_Angeles:20240303T150000
END:VEVENT
END:VCALENDAR