BEGIN:VCALENDAR
METHOD:PUBLISH
VERSION:2.0
CALSCALE:GREGORIAN
PRODID:-//NONSGML Sandhills Development\, LLC//NONSGML Sugar Calendar Fe
 eds v3.5.1//EN
X-WR-CALNAME:Easter Sunday\, March 31st\, GGCSL’s 41st Anniversary
X-WR-CALDESC:Golden Gate Center for Spiritual Living
X-WR-TIMEZONE:America/Los_Angeles
BEGIN:VTIMEZONE
TZID:America/Los_Angeles
BEGIN:STANDARD
TZOFFSETFROM:-0700
TZOFFSETTO:-0800
DTSTART:20231105T090000
TZNAME:PST
END:STANDARD
BEGIN:DAYLIGHT
TZOFFSETFROM:-0800
TZOFFSETTO:-0700
DTSTART:20240310T100000
TZNAME:PDT
END:DAYLIGHT
END:VTIMEZONE
BEGIN:VTIMEZONE
TZID:America/Los_Angeles
BEGIN:STANDARD
TZOFFSETFROM:-0700
TZOFFSETTO:-0800
DTSTART:20231105T090000
TZNAME:PST
END:STANDARD
BEGIN:DAYLIGHT
TZOFFSETFROM:-0800
TZOFFSETTO:-0700
DTSTART:20240310T100000
TZNAME:PDT
END:DAYLIGHT
END:VTIMEZONE
BEGIN:VEVENT
SUMMARY:Easter Sunday\, March 31st\, GGCSL’s 41st Anniversary
DESCRIPTION:Plan to be here and join us for our joyous morning celebrati
 on and potluck lunch. Sign up on Sunday to help with set-up or clean-up 
 and to let us know what scrumptious dish you will bring to share for the
  meal.\n\nNote: Easter is early this year\, so lunching on the patio wil
 l be weather dependent. EASTER BONNET CONTEST IS RETURNING! Start decora
 ting your hat today.
URL;VALUE=URI:https://ggcsl.org/events/easter-sunday-march-31st-ggcsls-4
 1st-anniversary/
UID:urn:uuid:e1bda9e9-bddc-444e-8705-c5b04ce70b65
STATUS:CONFIRMED
ORGANIZER:
DTSTAMP:20260425T192913Z
DTSTART;TZID=America/Los_Angeles:20240331T100000
DTEND;TZID=America/Los_Angeles:20240331T130000
END:VEVENT
END:VCALENDAR