BEGIN:VCALENDAR
METHOD:PUBLISH
VERSION:2.0
CALSCALE:GREGORIAN
PRODID:-//NONSGML Sandhills Development\, LLC//NONSGML Sugar Calendar Fe
 eds v3.5.1//EN
X-WR-CALNAME:Concert with Daniel Nahmood
X-WR-CALDESC:Golden Gate Center for Spiritual Living
X-WR-TIMEZONE:America/Los_Angeles
BEGIN:VTIMEZONE
TZID:America/Los_Angeles
BEGIN:STANDARD
TZOFFSETFROM:-0700
TZOFFSETTO:-0800
DTSTART:20231105T090000
TZNAME:PST
END:STANDARD
END:VTIMEZONE
BEGIN:VTIMEZONE
TZID:America/Los_Angeles
BEGIN:STANDARD
TZOFFSETFROM:-0700
TZOFFSETTO:-0800
DTSTART:20231105T090000
TZNAME:PST
END:STANDARD
END:VTIMEZONE
BEGIN:VEVENT
SUMMARY:Concert with Daniel Nahmood
DESCRIPTION:We have a wonderful\, special opportunity to come together a
 s a community in celebration.\n\nOn Sunday\, February 25th Daniel Nahmod
 \, one of our favorite musicians\, will be here in person and will be do
 ing a special concert at the Corte Madera Community Center for us follow
 ing a potluck lunch. Tickets for this event are only $20 and they can be
  purchased after the Sunday Celebration this weekend.\n\nIf you’re out
  of the area\, you can enjoy the concert with us\, too! It will be priva
 tely live-streamed to our YouTube channel: Golden Gate Center for Spir
 itual Living. The price is the same\, either way. If you purchase a tick
 et online\, simply print out the thank you confirmation you receive afte
 r your purchase as your ticket\, or take a screenshot of it and save it 
 in your photos to show at the door. You’ll also receive the livestream
  viewing link. That way if you happen to be in town after all\, you can 
 choose to come and hear the concert in person!\n\nA potluck lunch will f
 ollow the Sunday Celebration on the 25th. Sign up this Sunday for the ty
 pe of dish or beverage you want to bring. Plan for it to serve 10\, and 
 bring it plated and ready to serve. (Do remember to label your dishes an
 d serving utensils!)\n\nFebruary 25th promises to be a wonderful day fil
 led with music to feed the heart and soul\, and to tickle your funny bon
 e as well. Don't miss it! Plan to Join us and buy your ticket today: Cli
 ck here!
URL;VALUE=URI:https://ggcsl.org/events/concert-with-daniel-nahmood/
UID:urn:uuid:6f94110a-b185-46b9-95a7-60155d9797b0
STATUS:CONFIRMED
ORGANIZER:
DTSTAMP:20260420T005945Z
DTSTART;TZID=America/Los_Angeles:20240225T110000
DTEND;TZID=America/Los_Angeles:20240225T140000
END:VEVENT
END:VCALENDAR