BEGIN:VCALENDAR
METHOD:PUBLISH
VERSION:2.0
CALSCALE:GREGORIAN
PRODID:-//NONSGML Sandhills Development\, LLC//NONSGML Sugar Calendar Fe
 eds v3.5.1//EN
X-WR-CALNAME:Celebration of Life For Rev. Dr. Marcia  Sutton\, Former  G
 GCSL Senior  Minister
X-WR-CALDESC:Golden Gate Center for Spiritual Living
X-WR-TIMEZONE:America/Los_Angeles
BEGIN:VTIMEZONE
TZID:America/Los_Angeles
BEGIN:STANDARD
TZOFFSETFROM:-0700
TZOFFSETTO:-0800
DTSTART:20231105T090000
TZNAME:PST
END:STANDARD
END:VTIMEZONE
BEGIN:VTIMEZONE
TZID:America/Los_Angeles
BEGIN:STANDARD
TZOFFSETFROM:-0700
TZOFFSETTO:-0800
DTSTART:20231105T090000
TZNAME:PST
END:STANDARD
END:VTIMEZONE
BEGIN:VEVENT
SUMMARY:Celebration of Life For Rev. Dr. Marcia Sutton\, Former GGCSL Se
 nior Minister
DESCRIPTION:Rev. Marcia’s Celebration of Life will be held at the Nort
 h Hollywood Church of Religious Science and on Zoom.\n\nLocation: 6161 W
 hitsett Ave.\, N. Hollywood\, CA 91606 at 11 am on March 1st.\n\nFor tho
 se unable to attend in person\, the service will be Zoomed here: https:/
 /us02web.zoom.us/j/82381517401?pwd=cEZsMDhFUUNOeTgreStmQnR3UzZidz09 \n\n
 Meeting ID: 823 8151 7401\n\nPasscode: Marcia202
URL;VALUE=URI:https://ggcsl.org/events/celebration-of-life-for-rev-dr-ma
 rcia-sutton-former-ggcsl-senior-minister/
UID:urn:uuid:966ed316-ae06-4b33-9168-c211b2605f8a
STATUS:CONFIRMED
ORGANIZER:
DTSTAMP:20260422T171846Z
DTSTART;TZID=America/Los_Angeles:20240301T110000
DTEND;TZID=America/Los_Angeles:20240301T140000
END:VEVENT
END:VCALENDAR