BEGIN:VCALENDAR
METHOD:PUBLISH
VERSION:2.0
CALSCALE:GREGORIAN
PRODID:-//NONSGML Sandhills Development\, LLC//NONSGML Sugar Calendar Fe
 eds v3.5.1//EN
X-WR-CALNAME:August SF-Marin Food Bank Service
X-WR-CALDESC:Golden Gate Center for Spiritual Living
X-WR-TIMEZONE:America/Los_Angeles
BEGIN:VTIMEZONE
TZID:America/Los_Angeles
BEGIN:DAYLIGHT
TZOFFSETFROM:-0800
TZOFFSETTO:-0700
DTSTART:20250309T100000
TZNAME:PDT
END:DAYLIGHT
END:VTIMEZONE
BEGIN:VTIMEZONE
TZID:America/Los_Angeles
BEGIN:DAYLIGHT
TZOFFSETFROM:-0800
TZOFFSETTO:-0700
DTSTART:20250309T100000
TZNAME:PDT
END:DAYLIGHT
END:VTIMEZONE
BEGIN:VEVENT
SUMMARY:August SF-Marin Food Bank Service
DESCRIPTION:Our next opportunity to serve at the food bank is coming up 
 on Tuesday\, August 12th from noon to 2 pm. Our volunteer food bank s
 ervice at the San Rafael warehouse usually consists of packing food so t
 hat it can be transported to distribution centers near the neighborhoods
  where this food is most needed.\n\nTo participate on the August team\, 
 contact Ellen Nicoia\, our coordinator\, by email at ellennicosia@gmail
 .com or text her at 415.720.0225 with your interest and contact info by
  August 5th so that she can let the food bank know who is coming.. We ha
 ve a specific number of slots available and volunteers fill them on a fi
 rst-come\, first-served basis.\n\nLet’s keep our participation flowing
  and abundant!
URL;VALUE=URI:https://ggcsl.org/events/august-sf-marin-food-bank-service
 /
UID:urn:uuid:d655959c-3529-4256-a34b-8abf6c90c35e
STATUS:CONFIRMED
ORGANIZER:
DTSTAMP:20260425T165609Z
DTSTART;TZID=America/Los_Angeles:20250812T120000
DTEND;TZID=America/Los_Angeles:20250812T140000
END:VEVENT
END:VCALENDAR